BEGIN:VCALENDAR
VERSION:2.0
PRODID:-//Hazel Hill Farm - ECPv6.15.20//NONSGML v1.0//EN
CALSCALE:GREGORIAN
METHOD:PUBLISH
X-WR-CALNAME:Hazel Hill Farm
X-ORIGINAL-URL:https://hazelhillfarmco.com
X-WR-CALDESC:Events for Hazel Hill Farm
REFRESH-INTERVAL;VALUE=DURATION:PT1H
X-Robots-Tag:noindex
X-PUBLISHED-TTL:PT1H
BEGIN:VTIMEZONE
TZID:America/Chicago
BEGIN:DAYLIGHT
TZOFFSETFROM:-0600
TZOFFSETTO:-0500
TZNAME:CDT
DTSTART:20220313T080000
END:DAYLIGHT
BEGIN:STANDARD
TZOFFSETFROM:-0500
TZOFFSETTO:-0600
TZNAME:CST
DTSTART:20221106T070000
END:STANDARD
BEGIN:DAYLIGHT
TZOFFSETFROM:-0600
TZOFFSETTO:-0500
TZNAME:CDT
DTSTART:20230312T080000
END:DAYLIGHT
BEGIN:STANDARD
TZOFFSETFROM:-0500
TZOFFSETTO:-0600
TZNAME:CST
DTSTART:20231105T070000
END:STANDARD
BEGIN:DAYLIGHT
TZOFFSETFROM:-0600
TZOFFSETTO:-0500
TZNAME:CDT
DTSTART:20240310T080000
END:DAYLIGHT
BEGIN:STANDARD
TZOFFSETFROM:-0500
TZOFFSETTO:-0600
TZNAME:CST
DTSTART:20241103T070000
END:STANDARD
END:VTIMEZONE
BEGIN:VEVENT
DTSTART;TZID=America/Chicago:20230923T100000
DTEND;TZID=America/Chicago:20230923T150000
DTSTAMP:20260421T040643
CREATED:20230916T043025Z
LAST-MODIFIED:20230916T043213Z
UID:226-1695463200-1695481200@hazelhillfarmco.com
SUMMARY:Fall Fest
DESCRIPTION:We are so excited to bring you Hazel Hill’s Fall Fest this year.\nFor the kids\, we are bringing back a few of our old favorites but adding a few NEW farm activities! We’ll have the bounce house out\, zip-line zipping\, face paint happening\, balloon artistry by the one and only Kiley\, corn pit\, FOOTBALL TOSS\, grain cart free throw\, farm slingshots and so much more!\nAdults\, we’ve got you covered too! Come in\, grab a coffee and watch your kids run wild or heck you yourself can run wild\, no judging here! We saw y’all on those swings We’ll have plenty of games setup for a friendly little competition of pumpkin putt-putt\, cornhole\, Jenga\, and Yardzee. Don’t forget the shopping! We have some of the best small businesses lined up showing off all their skills and crafts.\nTickets are $8 per person and can be bought online or in person at the gate. Kids 5 and under are FREE! Your ticket includes access to all activities on the farm\, plus entry into all the prize giveaways. In the event of rain\, all tickets will be refunded.\nWho’s coming to play?\n\nWe can’t wait to welcome in fall with y’all at the farm!
URL:https://hazelhillfarmco.com/event/fall-fest/
LOCATION:Hazel Hill Farm
ATTACH;FMTTYPE=image/jpeg:https://hazelhillfarmco.com/wp-content/uploads/2023/01/IMG_1431.jpeg
END:VEVENT
BEGIN:VEVENT
DTSTART;TZID=America/Chicago:20230429T100000
DTEND;TZID=America/Chicago:20230429T150000
DTSTAMP:20260421T040643
CREATED:20230127T145100Z
LAST-MODIFIED:20230429T003704Z
UID:223-1682762400-1682780400@hazelhillfarmco.com
SUMMARY:Spring at the Farm
DESCRIPTION:We are so excited to bring you Hazel Hill’s spring at the farm event! \nFor the kids\, C Bar C will be out offering pony rides! We are bringing back a few of our old favorites but adding 2 NEW farm activities! We’ll have the bounce house out\, zip-line zipping\, face paint happening\, balloon artistry by the one and only Kiley\, corn pit\, grain cart free throw\, farm slingshots and so much more! \nAdults\, we’ve got you covered too! Come in\, grab a coffee from Birkin Brewing Co.\, and watch your kids run wild or heck you yourself can run wild\, no judging here! We saw y’all on those swings 😉We’ll have plenty of games setup for a friendly little competition of yardzee\, cornhole\, Jenga\, and Dominoes. Don’t forget the shopping! We have some of the best small businesses lined up showing off all their skills and crafts. \nTickets are $8 per person and can be bought online or in person at the gate. Kids 5 and under are FREE! Your ticket includes access to all activities on the farm\, plus entry into all the prize giveaways. In the event of rain\, all tickets will be refunded. \nWho’s coming to play? \nWe can’t wait to see y’all on the farm!
URL:https://hazelhillfarmco.com/event/spring-at-the-farm/
LOCATION:Hazel Hill Farm
CATEGORIES:Upcoming Events
ATTACH;FMTTYPE=image/jpeg:https://hazelhillfarmco.com/wp-content/uploads/2023/01/IMG_1431.jpeg
END:VEVENT
BEGIN:VEVENT
DTSTART;TZID=America/Chicago:20230422T150000
DTEND;TZID=America/Chicago:20230422T170000
DTSTAMP:20260421T040643
CREATED:20230127T143331Z
LAST-MODIFIED:20230127T143331Z
UID:221-1682175600-1682182800@hazelhillfarmco.com
SUMMARY:Beginner Acrylics Class
DESCRIPTION:Looking to dust off the old brushes or maybe learn a new skill? Join Katie from Art by Katie Childers as she guides us through this acrylics class. You’ll learn basic acrylic techniques and also leave with your own 8×10 painting. Picture will be posted under the discussion tab. \nAll are welcome but this class is recommended for ages 10 and up. Tickets are $30 and must be bought in advance. Water and snacks provided!
URL:https://hazelhillfarmco.com/event/beginner-acrylics-class/
LOCATION:Hazel Hill Farm
CATEGORIES:Upcoming Events
ATTACH;FMTTYPE=image/jpeg:https://hazelhillfarmco.com/wp-content/uploads/2023/01/IMG_1429.jpeg
END:VEVENT
BEGIN:VEVENT
DTSTART;TZID=America/Chicago:20230415T100000
DTEND;TZID=America/Chicago:20230415T120000
DTSTAMP:20260421T040643
CREATED:20230127T142216Z
LAST-MODIFIED:20230127T142316Z
UID:219-1681552800-1681560000@hazelhillfarmco.com
SUMMARY:Playdough Kit Workshop
DESCRIPTION:Parents\, grab your little ones and join us for a Playdough Kit Workshop lead by Christian from Let’s Dough Create! This will be a hands-on and creative experience for your little ones. \nEach child will get to craft their very own spring themed kit. This will include kneading their choice of color into their homemade play dough\, adding their choice of fragrances and glitter (optional)\, hand selecting sensory items for their kit\, and crafting their very own play dough kit to be enjoyed for months to come! \nTickets must be bought in advance and are $35 each. Only 12 tickets available!
URL:https://hazelhillfarmco.com/event/playdough-kit-workshop/
LOCATION:Hazel Hill Farm
CATEGORIES:Upcoming Events
ATTACH;FMTTYPE=image/jpeg:https://hazelhillfarmco.com/wp-content/uploads/2023/01/IMG_1428.jpeg
END:VEVENT
BEGIN:VEVENT
DTSTART;TZID=America/Chicago:20230408T100000
DTEND;TZID=America/Chicago:20230408T120000
DTSTAMP:20260421T040643
CREATED:20221010T223133Z
LAST-MODIFIED:20230127T141656Z
UID:204-1680948000-1680955200@hazelhillfarmco.com
SUMMARY:{Spring/Easter} Cookie Decorating Class
DESCRIPTION:[vc_row][vc_column][vc_column_text]\n\nLooking for a unique way to kick off spring? Or maybe just want something different to do with your friends and family over Easter weekend? \nJoin us at the farm for a cookie decorating class led by Mrs. Melissa from The Cookie Jar. She’ll take us through all the steps of decorating a fun 5-piece spring set\, leaving you with an adorable set you can gift to your favorite person or enjoy all to yourself. (Set pictured is just an example and not what we will do in class.) \nTickets are $45\, must be bought in advance and due to the nature of this class\, we will cut off ticket sales on 4/1 to prepare for class on 4/8. \n\nGrab ‘em now!\nDate: April 8th\nTime: 10am-12pm\nCost: $45\n[/vc_column_text][/vc_column][/vc_row]
URL:https://hazelhillfarmco.com/event/kids-pumpkin-paint-party/
LOCATION:Hazel Hill Farm
CATEGORIES:Upcoming Events
ATTACH;FMTTYPE=image/jpeg:https://hazelhillfarmco.com/wp-content/uploads/2022/10/IMG_1427-e1674828949185.jpeg
END:VEVENT
BEGIN:VEVENT
DTSTART;TZID=America/Chicago:20230210T180000
DTEND;TZID=America/Chicago:20230210T200000
DTSTAMP:20260421T040643
CREATED:20230127T135848Z
LAST-MODIFIED:20230127T140643Z
UID:215-1676052000-1676059200@hazelhillfarmco.com
SUMMARY:DIY Floral Arrangement Class
DESCRIPTION:Grab your favorite galentine and come enjoy this easy diy flower arranging class. Each participant will learn the basics of floral arranging\, led by our local pro C+M Flower Company\, and get to design your own centerpiece with seasonal stems in all your favorite valentine colors. Michelle will cover at home care + send each participant home with a beautiful arrangement in their own vessel. Snacks and drinks will be provided. Tickets are $65 and sales will cut off two weeks before class.
URL:https://hazelhillfarmco.com/event/https-fb-me-e-2e522armzmibextidrqdjqz/
LOCATION:Hazel Hill Farm
CATEGORIES:Upcoming Events
ATTACH;FMTTYPE=image/jpeg:https://hazelhillfarmco.com/wp-content/uploads/2023/01/E4FBEC0F-6025-4132-9D2C-A1B4B7B6FE87.jpeg
END:VEVENT
END:VCALENDAR